Workbook
Name rentreceipt: 'Property 1'!$AD$18:$AD$19
Name rentreceipt: 'Property 2'!$AD$18:$AD$19
Name rentreceipt: 'Property 3'!$AD$18:$AD$19
Name rentreceipt: 'Property 4'!$AD$18:$AD$19
Name rentreceipt: 'Property 5'!$AD$18:$AD$19
Name rentreceipt: #REF!

Sheet How to use this tracker
F5: How to use this rental payment tracker:
F7: 1. Enter the details of your rent payments into each of the property tabs
F9: 2. The Rental Payment Dashboard tab will automatically update with information you enter in each tab
F11: 3. Double click the property spreadsheet tabs to re-name them, you can also re-name each of the properties on the dashboard
F13: 4. The days outstanding figure is calculated based on today's date. This updates when the spreadsheet is opened. If you leave the spreadsheet open for a few days in a row the formula won't update.
F15: 5. Use the rent receipt template in the last tab to create your own rent reciepts
F17: 6. To remove information in a cell that contains a drop down list, click the cell and press the 'delete' key
F19: We hope you find this tracker useful. If you need any help or would like to give us any feedback please email us:
F20: admin@landlordvision.co.uk
F22: To get started add the rent details of your first property

Sheet Rental Payment Dashboard
C7: Landlord Rent Payment Tracker
C10: Total rent received: | G10: =SUM(D16+E16+F16+G16+H16) -> 0
B12: Total rent outstanding: | G12: =SUM(D17+E17+F17+G17+H17) -> 0
D15: Property 1 | E15: Property 2 | F15: Property 3 | G15: Property 4 | H15: Property 5
C16: Rent Received | D16: ='Property 1'!F9 -> 0 | E16: ='Property 2'!F9 -> 0 | F16: ='Property 3'!F9 -> 0 | G16: ='Property 4'!F9 -> 0 | H16: ='Property 5'!F9 -> 0
C17: Rent Outstanding | D17: ='Property 1'!F11 -> 0 | E17: ='Property 2'!F11 -> 0 | F17: ='Property 3'!F11 -> 0 | G17: ='Property 4'!F11 -> 0 | H17: ='Property 5'!F11 -> 0
C18: Months Overdue | D18: ='Property 1'!F13 -> 0 | E18: ='Property 2'!F13 -> 0 | F18: ='Property 3'!F13 -> 0 | G18: ='Property 4'!F13 -> 0 | H18: ='Property 5'!F13 -> 0

Sheet Property 1
A1: Copyright Landlord Vision Limited
D4: Landlord Rent Payment Tracker
C6: Tenant Name | F6: Enter your tenant's name here
C7: Tenant Address | F7: Enter your tenant's property address here
C9: Rent paid to date | F9: =G67 -> 0
C11: Outstanding balance | F11: =J67 -> 0
D13: Months Overdue | F13: =COUNTIF(K19:K65,"No") -> 0
C16: Rent due date | D16: Rent period from | E16: Rent period to | F16: rent amt due | G16: rent amt paid | H16: rent paid date | I16: Rent receipt | J16: outstanding balance | K16: Rent Paid? | L16: Days outstanding
B17: E.G | C17: 44510 | D17: 44510 | E17: 44539 | F17: 525 | G17: 525 | H17: 43435 | I17: Yes | J17: =F17-G17 -> 0 | K17: Yes | L17: =IF(K17="No",M17-C17,0) -> 0 | AD17: Rent receipt generated
B18: E.G | C18: 44409 | D18: 44409 | E18: 44439 | F18: 600 | G18: 0 | I18: No | J18: =F18-G18 -> 600 | K18: No | L18: =IF(K18="No",M18-C18,0) -> 199 | M18: =TODAY() -> 44608 | AD18: Yes
J19: =F19-G19 -> 0 | L19: =IF(K19="No",M19-C19,0) -> 0 | M19: =TODAY() -> 44608 | AD19: No
J20: =F20-G20 -> 0 | L20: =IF(K20="No",M20-C20,0) -> 0 | M20: =TODAY() -> 44608
J21: =F21-G21 -> 0 | L21: =IF(K21="No",M21-C21,0) -> 0 | M21: =TODAY() -> 44608
J22: =F22-G22 -> 0 | L22: =IF(K22="No",M22-C22,0) -> 0 | M22: =TODAY() -> 44608
J23: =F23-G23 -> 0 | L23: =IF(K23="No",M23-C23,0) -> 0 | M23: =TODAY() -> 44608
J24: =F24-G24 -> 0 | L24: =IF(K24="No",M24-C24,0) -> 0 | M24: =TODAY() -> 44608
J25: =F25-G25 -> 0 | L25: =IF(K25="No",M25-C25,0) -> 0 | M25: =TODAY() -> 44608
J26: =F26-G26 -> 0 | L26: =IF(K26="No",M26-C26,0) -> 0 | M26: =TODAY() -> 44608
J27: =F27-G27 -> 0 | L27: =IF(K27="No",M27-C27,0) -> 0 | M27: =TODAY() -> 44608
J28: =F28-G28 -> 0 | L28: =IF(K28="No",M28-C28,0) -> 0 | M28: =TODAY() -> 44608
J29: =F29-G29 -> 0 | L29: =IF(K29="No",M29-C29,0) -> 0 | M29: =TODAY() -> 44608
J30: =F30-G30 -> 0 | L30: =IF(K30="No",M30-C30,0) -> 0 | M30: =TODAY() -> 44608
J31: =F31-G31 -> 0 | L31: =IF(K31="No",M31-C31,0) -> 0 | M31: =TODAY() -> 44608
... J66: =F66-G66 -> 0 | L66: =IF(K66="No",M66-C66,0) -> 0 | M66: =TODAY() -> 44608
F67: Total: | G67: =SUM(G19:G66) -> 0 | I67: Total: | J67: =SUM(J19:J66) -> 0

Sheet Property 2
A1: Copyright Landlord Vision Limited
D4: Landlord Rent Payment Tracker
C6: Tenant Name | F6: Enter your tenant's name here
C7: Tenant Address | F7: Enter your tenant's property address here
C9: Rent paid to date | F9: =G67 -> 0
C11: Outstanding balance | F11: =J67 -> 0
D13: Months Overdue | F13: =COUNTIF(K19:K65,"No") -> 0
C16: Rent due date | D16: Rent period from | E16: Rent period to | F16: rent amt due | G16: rent amt paid | H16: rent paid date | I16: Rent receipt | J16: outstanding balance | K16: Rent Paid? | L16: Days outstanding
B17: E.G | C17: 44510 | D17: 44510 | E17: 44539 | F17: 525 | G17: 525 | H17: 43435 | I17: Yes | J17: =F17-G17 -> 0 | K17: Yes | L17: =IF(K17="No",M17-C17,0) -> 0 | AD17: Rent receipt generated
B18: E.G | C18: 44409 | D18: 44409 | E18: 44439 | F18: 600 | G18: 0 | I18: No | J18: =F18-G18 -> 600 | K18: No | L18: =IF(K18="No",M18-C18,0) -> 199 | M18: =TODAY() -> 44608 | AD18: Yes
J19: =F19-G19 -> 0 | L19: =IF(K19="No",M19-C19,0) -> 0 | M19: =TODAY() -> 44608 | AD19: No
J20: =F20-G20 -> 0 | L20: =IF(K20="No",M20-C20,0) -> 0 | M20: =TODAY() -> 44608
J21: =F21-G21 -> 0 | L21: =IF(K21="No",M21-C21,0) -> 0 | M21: =TODAY() -> 44608
J22: =F22-G22 -> 0 | L22: =IF(K22="No",M22-C22,0) -> 0 | M22: =TODAY() -> 44608
J23: =F23-G23 -> 0 | L23: =IF(K23="No",M23-C23,0) -> 0 | M23: =TODAY() -> 44608
J24: =F24-G24 -> 0 | L24: =IF(K24="No",M24-C24,0) -> 0 | M24: =TODAY() -> 44608
J25: =F25-G25 -> 0 | L25: =IF(K25="No",M25-C25,0) -> 0 | M25: =TODAY() -> 44608
J26: =F26-G26 -> 0 | L26: =IF(K26="No",M26-C26,0) -> 0 | M26: =TODAY() -> 44608
J27: =F27-G27 -> 0 | L27: =IF(K27="No",M27-C27,0) -> 0 | M27: =TODAY() -> 44608
J28: =F28-G28 -> 0 | L28: =IF(K28="No",M28-C28,0) -> 0 | M28: =TODAY() -> 44608
J29: =F29-G29 -> 0 | L29: =IF(K29="No",M29-C29,0) -> 0 | M29: =TODAY() -> 44608
J30: =F30-G30 -> 0 | L30: =IF(K30="No",M30-C30,0) -> 0 | M30: =TODAY() -> 44608
J31: =F31-G31 -> 0 | L31: =IF(K31="No",M31-C31,0) -> 0 | M31: =TODAY() -> 44608
... J66: =F66-G66 -> 0 | L66: =IF(K66="No",M66-C66,0) -> 0 | M66: =TODAY() -> 44608
F67: Total: | G67: =SUM(G19:G66) -> 0 | I67: Total: | J67: =SUM(J19:J66) -> 0

Sheet Property 3
A1: Copyright Landlord Vision Limited
D4: Landlord Rent Payment Tracker
C6: Tenant Name | F6: Enter your tenant's name here
C7: Tenant Address | F7: Enter your tenant's property address here
C9: Rent paid to date | F9: =G67 -> 0
C11: Outstanding balance | F11: =J67 -> 0
D13: Months Overdue | F13: =COUNTIF(K19:K65,"No") -> 0
C16: Rent due date | D16: Rent period from | E16: Rent period to | F16: rent amt due | G16: rent amt paid | H16: rent paid date | I16: Rent receipt | J16: outstanding balance | K16: Rent Paid? | L16: Days outstanding
B17: E.G | C17: 44510 | D17: 44510 | E17: 44539 | F17: 525 | G17: 525 | H17: 43435 | I17: Yes | J17: =F17-G17 -> 0 | K17: Yes | L17: =IF(K17="No",M17-C17,0) -> 0 | AD17: Rent receipt generated
B18: E.G | C18: 44409 | D18: 44409 | E18: 44439 | F18: 600 | G18: 0 | I18: No | J18: =F18-G18 -> 600 | K18: No | L18: =IF(K18="No",M18-C18,0) -> 199 | M18: =TODAY() -> 44608 | AD18: Yes
J19: =F19-G19 -> 0 | L19: =IF(K19="No",M19-C19,0) -> 0 | M19: =TODAY() -> 44608 | AD19: No
J20: =F20-G20 -> 0 | L20: =IF(K20="No",M20-C20,0) -> 0 | M20: =TODAY() -> 44608
J21: =F21-G21 -> 0 | L21: =IF(K21="No",M21-C21,0) -> 0 | M21: =TODAY() -> 44608
J22: =F22-G22 -> 0 | L22: =IF(K22="No",M22-C22,0) -> 0 | M22: =TODAY() -> 44608
J23: =F23-G23 -> 0 | L23: =IF(K23="No",M23-C23,0) -> 0 | M23: =TODAY() -> 44608
J24: =F24-G24 -> 0 | L24: =IF(K24="No",M24-C24,0) -> 0 | M24: =TODAY() -> 44608
J25: =F25-G25 -> 0 | L25: =IF(K25="No",M25-C25,0) -> 0 | M25: =TODAY() -> 44608
J26: =F26-G26 -> 0 | L26: =IF(K26="No",M26-C26,0) -> 0 | M26: =TODAY() -> 44608
J27: =F27-G27 -> 0 | L27: =IF(K27="No",M27-C27,0) -> 0 | M27: =TODAY() -> 44608
J28: =F28-G28 -> 0 | L28: =IF(K28="No",M28-C28,0) -> 0 | M28: =TODAY() -> 44608
J29: =F29-G29 -> 0 | L29: =IF(K29="No",M29-C29,0) -> 0 | M29: =TODAY() -> 44608
J30: =F30-G30 -> 0 | L30: =IF(K30="No",M30-C30,0) -> 0 | M30: =TODAY() -> 44608
J31: =F31-G31 -> 0 | L31: =IF(K31="No",M31-C31,0) -> 0 | M31: =TODAY() -> 44608
... J66: =F66-G66 -> 0 | L66: =IF(K66="No",M66-C66,0) -> 0 | M66: =TODAY() -> 44608
F67: Total: | G67: =SUM(G19:G66) -> 0 | I67: Total: | J67: =SUM(J19:J66) -> 0

Sheet Property 4
A1: Copyright Landlord Vision Limited
D4: Landlord Rent Payment Tracker
C6: Tenant Name | F6: Enter your tenant's name here
C7: Tenant Address | F7: Enter your tenant's property address here
C9: Rent paid to date | F9: =G67 -> 0
C11: Outstanding balance | F11: =J67 -> 0
D13: Months Overdue | F13: =COUNTIF(K19:K65,"No") -> 0
C16: Rent due date | D16: Rent period from | E16: Rent period to | F16: rent amt due | G16: rent amt paid | H16: rent paid date | I16: Rent receipt | J16: outstanding balance | K16: Rent Paid? | L16: Days outstanding
B17: E.G | C17: 44510 | D17: 44510 | E17: 44539 | F17: 525 | G17: 525 | H17: 43435 | I17: Yes | J17: =F17-G17 -> 0 | K17: Yes | L17: =IF(K17="No",M17-C17,0) -> 0 | AD17: Rent receipt generated
B18: E.G | C18: 44409 | D18: 44409 | E18: 44439 | F18: 600 | G18: 0 | I18: No | J18: =F18-G18 -> 600 | K18: No | L18: =IF(K18="No",M18-C18,0) -> 199 | M18: =TODAY() -> 44608 | AD18: Yes
J19: =F19-G19 -> 0 | L19: =IF(K19="No",M19-C19,0) -> 0 | M19: =TODAY() -> 44608 | AD19: No
J20: =F20-G20 -> 0 | L20: =IF(K20="No",M20-C20,0) -> 0 | M20: =TODAY() -> 44608
J21: =F21-G21 -> 0 | L21: =IF(K21="No",M21-C21,0) -> 0 | M21: =TODAY() -> 44608
J22: =F22-G22 -> 0 | L22: =IF(K22="No",M22-C22,0) -> 0 | M22: =TODAY() -> 44608
J23: =F23-G23 -> 0 | L23: =IF(K23="No",M23-C23,0) -> 0 | M23: =TODAY() -> 44608
J24: =F24-G24 -> 0 | L24: =IF(K24="No",M24-C24,0) -> 0 | M24: =TODAY() -> 44608
J25: =F25-G25 -> 0 | L25: =IF(K25="No",M25-C25,0) -> 0 | M25: =TODAY() -> 44608
J26: =F26-G26 -> 0 | L26: =IF(K26="No",M26-C26,0) -> 0 | M26: =TODAY() -> 44608
J27: =F27-G27 -> 0 | L27: =IF(K27="No",M27-C27,0) -> 0 | M27: =TODAY() -> 44608
J28: =F28-G28 -> 0 | L28: =IF(K28="No",M28-C28,0) -> 0 | M28: =TODAY() -> 44608
J29: =F29-G29 -> 0 | L29: =IF(K29="No",M29-C29,0) -> 0 | M29: =TODAY() -> 44608
J30: =F30-G30 -> 0 | L30: =IF(K30="No",M30-C30,0) -> 0 | M30: =TODAY() -> 44608
J31: =F31-G31 -> 0 | L31: =IF(K31="No",M31-C31,0) -> 0 | M31: =TODAY() -> 44608
... J66: =F66-G66 -> 0 | L66: =IF(K66="No",M66-C66,0) -> 0 | M66: =TODAY() -> 44608
F67: Total: | G67: =SUM(G19:G66) -> 0 | I67: Total: | J67: =SUM(J19:J66) -> 0

Sheet Property 5
A1: Copyright Landlord Vision Limited
D4: Landlord Rent Payment Tracker
C6: Tenant Name | F6: Enter your tenant's name here
C7: Tenant Address | F7: Enter your tenant's property address here
C9: Rent paid to date | F9: =G67 -> 0
C11: Outstanding balance | F11: =J67 -> 0
D13: Months Overdue | F13: =COUNTIF(K19:K65,"No") -> 0
C16: Rent due date | D16: Rent period from | E16: Rent period to | F16: rent amt due | G16: rent amt paid | H16: rent paid date | I16: Rent receipt | J16: outstanding balance | K16: Rent Paid? | L16: Days outstanding
B17: E.G | C17: 44510 | D17: 44510 | E17: 44539 | F17: 525 | G17: 525 | H17: 43435 | I17: Yes | J17: =F17-G17 -> 0 | K17: Yes | L17: =IF(K17="No",M17-C17,0) -> 0 | AD17: Rent receipt generated
B18: E.G | C18: 44409 | D18: 44409 | E18: 44439 | F18: 600 | G18: 0 | I18: No | J18: =F18-G18 -> 600 | K18: No | L18: =IF(K18="No",M18-C18,0) -> 199 | M18: =TODAY() -> 44608 | AD18: Yes
J19: =F19-G19 -> 0 | L19: =IF(K19="No",M19-C19,0) -> 0 | M19: =TODAY() -> 44608 | AD19: No
J20: =F20-G20 -> 0 | L20: =IF(K20="No",M20-C20,0) -> 0 | M20: =TODAY() -> 44608
J21: =F21-G21 -> 0 | L21: =IF(K21="No",M21-C21,0) -> 0 | M21: =TODAY() -> 44608
J22: =F22-G22 -> 0 | L22: =IF(K22="No",M22-C22,0) -> 0 | M22: =TODAY() -> 44608
J23: =F23-G23 -> 0 | L23: =IF(K23="No",M23-C23,0) -> 0 | M23: =TODAY() -> 44608
J24: =F24-G24 -> 0 | L24: =IF(K24="No",M24-C24,0) -> 0 | M24: =TODAY() -> 44608
J25: =F25-G25 -> 0 | L25: =IF(K25="No",M25-C25,0) -> 0 | M25: =TODAY() -> 44608
J26: =F26-G26 -> 0 | L26: =IF(K26="No",M26-C26,0) -> 0 | M26: =TODAY() -> 44608
J27: =F27-G27 -> 0 | L27: =IF(K27="No",M27-C27,0) -> 0 | M27: =TODAY() -> 44608
J28: =F28-G28 -> 0 | L28: =IF(K28="No",M28-C28,0) -> 0 | M28: =TODAY() -> 44608
J29: =F29-G29 -> 0 | L29: =IF(K29="No",M29-C29,0) -> 0 | M29: =TODAY() -> 44608
J30: =F30-G30 -> 0 | L30: =IF(K30="No",M30-C30,0) -> 0 | M30: =TODAY() -> 44608
J31: =F31-G31 -> 0 | L31: =IF(K31="No",M31-C31,0) -> 0 | M31: =TODAY() -> 44608
... J66: =F66-G66 -> 0 | L66: =IF(K66="No",M66-C66,0) -> 0 | M66: =TODAY() -> 44608
F67: Total: | G67: =SUM(G19:G66) -> 0 | I67: Total: | J67: =SUM(J19:J66) -> 0

Sheet Rent Receipt
A2: Rent Receipt
B3: Date: | I3: Receipt No:
B5: Request for payment from: | I5: Request for payment to:
B7: Rental property address:
I8: Signature / Stamp:
B9: Amount to be paid:
B11: Amount received:
B13: Balance due:
B15: Payment method:
